BEGIN:VCALENDAR
VERSION:2.0
PRODID:-//AudioTheme 3.0.2
BEGIN:VEVENT
UID:urn:uuid:f802c711-3c65-45c3-b46a-64cb82c282d1
URL:https://willbernard.com/shows/club-delf-with-will-bernard-and-aaron-johnston/
DTSTART;TZID=GMT:20210709T220000
SUMMARY:Club D'Elf. with Will Bernard and Aaron Johnston
DESCRIPTION:Club D'Elf. with Will Bernard and Aaron Johnston
LOCATION:Industry City Band Shell\, 220 36th Street\, Brooklyn\, New York\, United States\, 11215
END:VEVENT
END:VCALENDAR
