BEGIN:VCALENDAR
VERSION:2.0
PRODID:-//AudioTheme 3.0.2
BEGIN:VEVENT
UID:urn:uuid:f0b58b5a-bd50-48d6-b648-9c36a27cb447
URL:https://willbernard.com/shows/club-delf-with-john-medeski/
DTSTART;TZID=GMT:20230804T233000
SUMMARY:Club D'Elf with John Medeski
DESCRIPTION:Club D'Elf with John Medeski
LOCATION:The Falcon\, 1348 U.S. 9W\, Marlboro\, NY\, United States\, 12542
END:VEVENT
END:VCALENDAR
