BEGIN:VCALENDAR
VERSION:2.0
PRODID:-//AudioTheme 3.0.2
BEGIN:VEVENT
UID:urn:uuid:b99ed8e4-2ae6-414c-930d-ed515cd2037e
URL:https://willbernard.com/shows/club-delf-the-burren/
DTSTART;TZID=GMT:20210830T010000
SUMMARY:Club D'Elf @ The Burren
DESCRIPTION:Club D'Elf @ The Burren
LOCATION:The Burren\, 247 Elm Street\, Somerville\, MA\, United States\, 02144
END:VEVENT
END:VCALENDAR
