BEGIN:VCALENDAR
VERSION:2.0
PRODID:-//AudioTheme 3.0.2
BEGIN:VEVENT
UID:urn:uuid:f488cc40-ee53-446f-85c2-50ec7f8cccf9
URL:https://willbernard.com/shows/club-delf-lizard-lounge/
DTSTART;TZID=GMT:20200307T030000
SUMMARY:Club D'Elf @ Lizard Lounge
DESCRIPTION:Club D'Elf @ Lizard Lounge
LOCATION:Lizard Lounge\, 1667 Massachusetts Avenue\, Cambridge\, MA\, United States\, 02138
END:VEVENT
END:VCALENDAR
