BEGIN:VCALENDAR
VERSION:2.0
PRODID:-//AudioTheme 3.0.2
BEGIN:VEVENT
UID:urn:uuid:dbf5ddc5-8a67-4d2b-a51b-4ea80231cd37
URL:https://willbernard.com/shows/club-delf-featuring-will-bernard/
DTSTART;TZID=GMT:20181013T010000
SUMMARY:Club D'elf featuring Will Bernard
DESCRIPTION:Club D'elf featuring Will Bernard
LOCATION:Lizard Lounge\, 1667 Massachusetts Avenue\, Cambridge\, MA\, United States\, 02138
END:VEVENT
END:VCALENDAR
