BEGIN:VCALENDAR
VERSION:2.0
PRODID:-//AudioTheme 3.0.2
BEGIN:VEVENT
UID:urn:uuid:715036dc-c5ed-41b0-9a78-1279d2ae4457
URL:https://willbernard.com/shows/club-delf-featuring-peter-apfelbaum/
DTSTART;TZID=GMT:20220730T030000
SUMMARY:Club D'Elf featuring Peter Apfelbaum
DESCRIPTION:Club D'Elf featuring Peter Apfelbaum
LOCATION:Industry City Band Shell\, 220 36th Street\, Brooklyn\, New York\, United States\, 11215
END:VEVENT
END:VCALENDAR
