BEGIN:VCALENDAR
VERSION:2.0
PRODID:-//AudioTheme 3.0.2
BEGIN:VEVENT
UID:urn:uuid:c4cbaccb-fc8d-469f-825a-35a17dddeada
URL:https://willbernard.com/shows/club-delf-featuring-john-medeski/
DTSTART;TZID=GMT:20251125T000000
SUMMARY:Club D'Elf featuring John Medeski
DESCRIPTION:Club D'Elf featuring John Medeski
LOCATION:Race Brook Lodge\, 864 South Undermountain Road\, Sheffield\, MA\, United States\, 01257
END:VEVENT
END:VCALENDAR
