BEGIN:VCALENDAR
VERSION:2.0
PRODID:-//AudioTheme 3.0.2
BEGIN:VEVENT
UID:urn:uuid:06f926ab-a4b4-4188-87c4-88a514dd977f
URL:https://willbernard.com/shows/club-delf-featuring-john-medeski-and-will-bernard-3/
DTSTART;TZID=GMT:20240101T010000
SUMMARY:Club D'Elf featuring John Medeski and Will Bernard
DESCRIPTION:Club D'Elf featuring John Medeski and Will Bernard
LOCATION:The Cabot\, 286 Cabot Street\, Beverly\, MA\, United States\, 01915
END:VEVENT
END:VCALENDAR
