BEGIN:VCALENDAR
VERSION:2.0
PRODID:-//AudioTheme 3.0.2
BEGIN:VEVENT
UID:urn:uuid:4d99b6b8-fe02-437d-b6f6-99607e910f20
URL:https://willbernard.com/shows/club-delf-2/
DTSTART;TZID=GMT:20230416T010000
SUMMARY:Club D'Elf
DESCRIPTION:Club D'Elf
LOCATION:DROM\, 85 Avenue A\, New York\, NY\, United States\, 10009
END:VEVENT
END:VCALENDAR
