BEGIN:VCALENDAR
VERSION:2.0
PRODID:-//AudioTheme 3.0.2
BEGIN:VEVENT
UID:urn:uuid:6cf77854-0d6e-4d23-9c23-58419f37b249
URL:https://willbernard.com/shows/brian-charette-will-bernard-jason-marsalis/
DTSTART;TZID=GMT:20260530T010000
SUMMARY:Brian Charette, Will Bernard, Jason Marsalis
DESCRIPTION:Brian Charette\, Will Bernard\, Jason Marsalis
LOCATION:Maple Leaf Bar\, 8316 Oak Street\, New Orleans\, LA\, United States\, 70118
END:VEVENT
END:VCALENDAR
