BEGIN:VCALENDAR
VERSION:2.0
PRODID:-//AudioTheme 3.0.2
BEGIN:VEVENT
UID:urn:uuid:cf162c13-c36e-4e85-8c35-106a7e164707
URL:https://willbernard.com/shows/boom-boom-room-san-francisco/
DTSTART;VALUE=DATE:20190207
SUMMARY:Boom Boom Room San Francisco
DESCRIPTION:Victor Little's Big-Azz B'day party with Will Bernard\, Maya Kronfeld\, Victor Little and Joe Begale
LOCATION:Boom Boom Room\, 1601 Fillmore St\, San Francisco\, CA\, USA	
END:VEVENT
END:VCALENDAR
