BEGIN:VCALENDAR
VERSION:2.0
PRODID:-//AudioTheme 3.0.2
BEGIN:VEVENT
UID:urn:uuid:14478b75-14ff-49a9-ba39-2bc58c3b8405
URL:https://willbernard.com/shows/blue-line-concert-series-with-will-bernard-ellen-gronningen-and-amelia-muccia/
DTSTART;TZID=GMT:20210817T233000
SUMMARY:Blue Line Concert series with Will Bernard Ellen Gronningen and Amelia Muccia
DESCRIPTION:Blue Line Concert series with Will Bernard Ellen Gronningen and Amelia Muccia
LOCATION:beth joseph synagogue\, 59 Lake Street\, Tupper Lake\, NY\, United States\, 12986
END:VEVENT
END:VCALENDAR
