BEGIN:VCALENDAR
VERSION:2.0
PRODID:-//AudioTheme 3.0.2
BEGIN:VEVENT
UID:urn:uuid:8205dbc5-a993-4f26-a5db-0a9582b2545b
URL:https://willbernard.com/shows/beth-custer-will-bernard-duo/
DTSTART;TZID=GMT:20240621T220000
SUMMARY:Beth Custer Will Bernard duo
DESCRIPTION:Beth Custer Will Bernard duo
LOCATION:Chapel of the Chimes\, 4499 Piedmont Avenue\, Oakland\, CA\, United States\, 94611
END:VEVENT
END:VCALENDAR
