BEGIN:VCALENDAR
VERSION:2.0
PRODID:-//AudioTheme 3.0.2
BEGIN:VEVENT
UID:urn:uuid:4aff497b-a2c6-4ea8-a29f-8dd5e5f73d80
URL:https://willbernard.com/shows/beth-custer-will-bernard-duo-3/
DTSTART;TZID=GMT:20240703T190000
SUMMARY:Beth Custer Will Bernard Duo
DESCRIPTION:Beth Custer Will Bernard Duo
LOCATION:San Francisco Public Library\, 100 Larkin Street\, San Francisco\, CA\, United States\, 94102
END:VEVENT
END:VCALENDAR
