BEGIN:VCALENDAR
VERSION:2.0
PRODID:-//AudioTheme 3.0.2
BEGIN:VEVENT
UID:urn:uuid:51b554ea-40ad-48e5-b116-7c8b74551bee
URL:https://willbernard.com/shows/bernard-purdie-and-friends-2/
DTSTART;TZID=GMT:20210919T000000
SUMMARY:Bernard Purdie and Friends
DESCRIPTION:Bernard Purdie and Friends
LOCATION:Boom Boom Room\, 1601 Fillmore St\, San Francisco\, CA\, USA	
END:VEVENT
END:VCALENDAR
