BEGIN:VCALENDAR
VERSION:2.0
PRODID:-//AudioTheme 3.0.2
BEGIN:VEVENT
UID:urn:uuid:e030ba54-950b-46d8-ab84-6f33b09e7a3f
URL:https://willbernard.com/shows/bernard-drye-mcginnis-mednard-loomis/
DTSTART;VALUE=DATE:
SUMMARY:Bernard, Drye, Mcginnis, Mednard, Loomis
DESCRIPTION:Bernard\, Drye\, Mcginnis\, Mednard\, Loomis
LOCATION:Ibeam Brooklyn\, 168 7th Street\, \, NY\, United States\, 11215
END:VEVENT
END:VCALENDAR
