BEGIN:VCALENDAR
VERSION:2.0
PRODID:-//AudioTheme 3.0.2
BEGIN:VEVENT
UID:urn:uuid:1e667690-2c93-4b88-be2a-b49b6d9c45ad
URL:https://willbernard.com/shows/bernard-drye-loomis-mcginnis-mednard/
DTSTART;TZID=GMT:20250909T000000
SUMMARY:Bernard, Drye, Loomis, Mcginnis, Mednard
DESCRIPTION:Bernard\, Drye\, Loomis\, Mcginnis\, Mednard
LOCATION:Ibeam Brooklyn\, 168 7th Street\, \, NY\, United States\, 11215
END:VEVENT
END:VCALENDAR
