BEGIN:VCALENDAR
VERSION:2.0
PRODID:-//AudioTheme 3.0.2
BEGIN:VEVENT
UID:urn:uuid:d6e54a2b-067d-466c-9a2c-0c3ec07441b4
URL:https://willbernard.com/shows/ben-sidran/
DTSTART;TZID=GMT:20190902T010000
SUMMARY:Ben Sidran @ Chicago Jazz festival
DESCRIPTION:Ben Sidran @ Chicago Jazz festival
LOCATION:Millennium Park\, 201 E Randolph St\, Chicago\, IL\, United States\, 60602
END:VEVENT
END:VCALENDAR
