BEGIN:VCALENDAR
VERSION:2.0
PRODID:-//AudioTheme 3.0.2
BEGIN:VEVENT
UID:urn:uuid:6ab1cf11-6732-4465-b20d-201b6800df45
URL:https://willbernard.com/shows/ben-sidran-3/
DTSTART;TZID=GMT:20190901T010000
SUMMARY:Ben Sidran
LOCATION:The Green Mill\, 4802 North Broadway\, Chicago\, IL\, United States\, 60640
END:VEVENT
END:VCALENDAR
