BEGIN:VCALENDAR
VERSION:2.0
PRODID:-//AudioTheme 3.0.2
BEGIN:VEVENT
UID:urn:uuid:889dda00-7788-46c8-809d-cfb8fd837a17
URL:https://willbernard.com/shows/ben-sidran-2/
DTSTART;TZID=GMT:20190831T010000
SUMMARY:Ben Sidran
LOCATION:The Green Mill\, 4802 North Broadway\, Chicago\, IL\, United States\, 60640
END:VEVENT
END:VCALENDAR
