BEGIN:VCALENDAR
VERSION:2.0
PRODID:-//AudioTheme 3.0.2
BEGIN:VEVENT
UID:urn:uuid:828f2a8c-2a11-4b27-a70a-0a39fb84701d
URL:https://willbernard.com/shows/ben-goldbergs-glamorous-exploits/
DTSTART;TZID=GMT:20231118T040000
SUMMARY:Ben Goldberg's Glamorous Exploits
DESCRIPTION:Ben Goldberg's Glamorous Exploits
LOCATION:SFJAZZ\, 201 Franklin Street\, San Francisco\, CA\, United States\, 94102
END:VEVENT
END:VCALENDAR
