BEGIN:VCALENDAR
VERSION:2.0
PRODID:-//AudioTheme 3.0.2
BEGIN:VEVENT
UID:urn:uuid:46518dda-88aa-47cf-8b46-3983825080fc
URL:https://willbernard.com/shows/ben-goldbergs-glamorous-exploits-4/
DTSTART;TZID=GMT:20251024T020000
SUMMARY:Ben Goldberg's Glamorous Exploits
DESCRIPTION:Ben Goldberg's Glamarous Exploits
LOCATION:Wyldflowr Arts\, 809 37th Street\, Oakland\, CA\, United States\, 94608
END:VEVENT
END:VCALENDAR
