BEGIN:VCALENDAR
VERSION:2.0
PRODID:-//AudioTheme 3.0.2
BEGIN:VEVENT
UID:urn:uuid:fb9f8a28-f82e-4f39-a770-6fdee28d8190
URL:https://willbernard.com/shows/ben-goldbergs-glamorous-exploits-3/
DTSTART;TZID=GMT:20240607T000000
SUMMARY:Ben Goldberg's Glamorous Exploits
DESCRIPTION:Ben Goldberg's Glamorous Exploits
LOCATION:The Stone at the New School\, 55 West 13th Street\, New York\, NY\, United States\, 10011
END:VEVENT
END:VCALENDAR
