BEGIN:VCALENDAR
VERSION:2.0
PRODID:-//AudioTheme 3.0.2
BEGIN:VEVENT
UID:urn:uuid:cf2c2ce0-0f8c-4be4-9425-acb6728adc21
URL:https://willbernard.com/shows/ben-goldbergs-glamorous-exploits-2/
DTSTART;TZID=GMT:20231119T040000
SUMMARY:Ben Goldberg's Glamorous Exploits
DESCRIPTION:Ben Goldberg's Glamorous Exploits
LOCATION:Maybeck Studio\, 1537 Euclid Avenue\, Berkeley\, CA\, United States\, 94708
END:VEVENT
END:VCALENDAR
