BEGIN:VCALENDAR
VERSION:2.0
PRODID:-//AudioTheme 3.0.2
BEGIN:VEVENT
UID:urn:uuid:bfa8c3f8-5b8b-4aab-ba18-a849f2cf4db0
URL:https://willbernard.com/shows/ben-goldbergs-glamorous-escapades/
DTSTART;TZID=GMT:20231117T040000
SUMMARY:Ben Goldberg's Glamorous Escapades
DESCRIPTION:Ben Goldberg's Glamorous Escapades
LOCATION:Mitchell Park Community Center\, 3700 Middlefield Road\, Palo Alto\, CA\, United States\, 94303
END:VEVENT
END:VCALENDAR
