BEGIN:VCALENDAR
VERSION:2.0
PRODID:-//AudioTheme 3.0.2
BEGIN:VEVENT
UID:urn:uuid:fe965b0f-57c5-4b7c-be37-5f530a799c27
URL:https://willbernard.com/shows/ben-goldberg-will-bernard-hamir-atwal-2/
DTSTART;TZID=GMT:20240804T233000
SUMMARY:Ben Goldberg/ Will Bernard/Hamir Atwal
DESCRIPTION:Ben Goldberg/ Will Bernard/Hamir Atwal
LOCATION:Big Bar\, 75 East 7th Street\, New York\, NY\, United States\, 10003
END:VEVENT
END:VCALENDAR
