BEGIN:VCALENDAR
VERSION:2.0
PRODID:-//AudioTheme 3.0.2
BEGIN:VEVENT
UID:urn:uuid:636ae813-16a6-44cb-b362-3bae6a1e96b4
URL:https://willbernard.com/shows/ben-goldberg-porch-concert-music/
DTSTART;TZID=GMT:20221120T030000
SUMMARY:Ben Goldberg Porch Concert Music
DESCRIPTION:Ben Goldberg Porch Concert Music 
LOCATION:Bird & Beckett Books & Records\, 653 Chenery Street\, San Francisco\, CA\, United States\, 94131
END:VEVENT
END:VCALENDAR
