BEGIN:VCALENDAR
VERSION:2.0
PRODID:-//AudioTheme 3.0.2
BEGIN:VEVENT
UID:urn:uuid:bb138acc-1e8a-44ef-8498-a75e768e41ad
URL:https://willbernard.com/shows/ben-goldberg-ben-allison-alan-mednard-michael-coleman/
DTSTART;TZID=GMT:20230323T000000
SUMMARY:Ben Goldberg , Ben Allison, Alan Mednard, Michael Coleman
LOCATION:The Jazz Gallery\, 1158 Broadway\, New York\, NY\, United States\, 10001
END:VEVENT
END:VCALENDAR
