BEGIN:VCALENDAR
VERSION:2.0
PRODID:-//AudioTheme 3.0.2
BEGIN:VEVENT
UID:urn:uuid:94663646-5940-4946-8026-a7c83c096f18
URL:https://willbernard.com/shows/arete-quartet-with-will-bernard-and-joe-doria/
DTSTART;TZID=GMT:20180920T020000
SUMMARY:Arete quartet with Will Bernard and Joe Doria
LOCATION:Sylvia Center for the Arts\, Bellingham\, WA\, United States
END:VEVENT
END:VCALENDAR
