BEGIN:VCALENDAR
VERSION:2.0
PRODID:-//AudioTheme 3.0.2
BEGIN:VEVENT
UID:urn:uuid:79d159e5-3690-4761-95fa-f0955ac6484c
URL:https://willbernard.com/shows/arete-quartet-with-will-bernard-and-joe-doria-2/
DTSTART;TZID=GMT:20180921T020000
SUMMARY:Arete Quartet with Will Bernard and Joe Doria
LOCATION:THE HALL\, Anacortes\, WA\, United States
END:VEVENT
END:VCALENDAR
